BEGIN:VCALENDAR
PRODID:-//eluceo/ical//2.0/EN
VERSION:2.0
CALSCALE:GREGORIAN
BEGIN:VEVENT
UID:7533a444c65b0d93b0f5ab58025c1818
DTSTAMP:20260421T031743Z
SUMMARY:Studiengruppenaustausch - Info
DESCRIPTION:Orador(es): Herbert Jungo
URL:https://freiburg-sense.rotary1990.ch/es/agenda/show/13460
DTSTART;TZID=Europe/Zurich:20100105T114500
DTEND;TZID=Europe/Zurich:20100105T114500
LOCATION:Hotel Alpenrose
CATEGORIES:Rotary
END:VEVENT
BEGIN:VTIMEZONE
TZID:Europe/Zurich
BEGIN:STANDARD
DTSTART:20100105T114500
TZNAME:CET
TZOFFSETTO:+0100
TZOFFSETFROM:+0100
END:STANDARD
END:VTIMEZONE
END:VCALENDAR
